Workbook

Sheet How to use this file
A1: SENSOR MAPPING TEMPLATE
A2: Instructions
A3: 1 | B3: Save this file locally
A4: 2 | B4: Location Master data
B5: Export location master data from IWMS. Make sure to include any data that is relevant for the installation team (for example location ID and location references, floor and building references, classification of the room etc)
B6: Use this location master data to fill in tab ROOMS of this file.
B7: Leave columns "Sensor" and "OK?" as-is for now.
A8: 3 | B8: Sensor Ids relevant for this project
B9: Provided with the CartonID, the Spacewell Implementation Consultant can check Tabs Inventory Files and export the valid sensor IDs.
B10: Import relevant sensor IDs to column C "Sensor IDs" on tab SENSOR IDS of this file.
B11: In doing so, column A "last 4 digits" will show the last 4 digits of the sensor IDs provided in column C.
A12: 4 | B12: Map Sensor ID with location to get immediate feedback if possible ID
B13: Upon installation, fill in the last 6 digits of the sensor ID into column "Sensor ID" in the ROOMS tab.
B14: - If these 4 last digits are part of the available sensor list, they will appear in the column "OK?"
B15: - If these 4 last digits are not part of the available sensor list, the column "OK?" will state "NA"
B16: - If these 4 last digits are part of the available sensor list, but are already referenced somewhere in this mapping list, the column "OK?" will turn red
A19: Tabs
B20: ROOMS
B21: Import location master data
B22: Map with 6 last digits of Sensor ID
B23: Immediately get feedback if the provided sensor ID is a possibility
B25: SENSOR IDs
B26: Import sensor IDs relevant for this project

Sheet Rooms
A1: Code | B1: Number | C1: Reference | D1: Parent Site Reference | E1: Parent Building Reference | F1: Parent Floor Reference | G1: Classification (Code) | H1: Sensor ID | I1: OK?
A2: String(50) | B2: String(20) | C2: String(50) | D2: String(50) | E2: String(50) | F2: String(50) | G2: String(20) | H2: Last 6 digits | I2: red=duplicate
A3: Code or Number must be filled in. | B3: Code or Number must be filled in. | C3: Read only value
A4: =COUNTA(A5:A65536) -> 0 | B4: =COUNTA(B5:B65536) -> 0 | C4: =COUNTA(C5:C65536) -> 0 | D4: =COUNTA(D5:D65536) -> 0 | E4: =COUNTA(E5:E65536) -> 0 | F4: =COUNTA(F5:F65536) -> 0 | G4: =COUNTA(G5:G65536) -> 0 | H4: =COUNTA(H5:H65536) -> 0
I5: =VLOOKUP(H5,'Sensor IDs'!A:A,1,FALSE) -> #N/A
I6: =VLOOKUP(H6,'Sensor IDs'!A:A,1,FALSE) -> #N/A
I7: =VLOOKUP(H7,'Sensor IDs'!A:A,1,FALSE) -> #N/A
I8: =VLOOKUP(H8,'Sensor IDs'!A:A,1,FALSE) -> #N/A
I9: =VLOOKUP(H9,'Sensor IDs'!A:A,1,FALSE) -> #N/A
I10: =VLOOKUP(H10,'Sensor IDs'!A:A,1,FALSE) -> #N/A
I11: =VLOOKUP(H11,'Sensor IDs'!A:A,1,FALSE) -> #N/A
I12: =VLOOKUP(H12,'Sensor IDs'!A:A,1,FALSE) -> #N/A
I13: =VLOOKUP(H13,'Sensor IDs'!A:A,1,FALSE) -> #N/A
I14: =VLOOKUP(H14,'Sensor IDs'!A:A,1,FALSE) -> #N/A
I15: =VLOOKUP(H15,'Sensor IDs'!A:A,1,FALSE) -> #N/A
I16: =VLOOKUP(H16,'Sensor IDs'!A:A,1,FALSE) -> #N/A
... I1734: =VLOOKUP(H1734,'Sensor IDs'!A:A,1,FALSE) -> #N/A

Sheet Sensor IDs
A1: last 6 digits | C1: Sensor IDs
A2: =RIGHT(C2,6) -> 10101B | C2: 58A0CB000010101B
A3: =RIGHT(C3,6) -> 1023AE | C3: 58A0CB00001023AE
A4: =RIGHT(C4,6)
A5: =RIGHT(C5,6)
A6: =RIGHT(C6,6)
A7: =RIGHT(C7,6)
A8: =RIGHT(C8,6)
A9: =RIGHT(C9,6)
A10: =RIGHT(C10,6)
A11: =RIGHT(C11,6)
A12: =RIGHT(C12,6)
A13: =RIGHT(C13,6)
A14: =RIGHT(C14,6)
A15: =RIGHT(C15,6)
... A3201: =RIGHT(C3201,6)
